BEGIN:VCALENDAR
VERSION:2.0
PRODID:-//GoCo - ECPv4.9.8//NONSGML v1.0//EN
CALSCALE:GREGORIAN
METHOD:PUBLISH
X-WR-CALNAME:GoCo
X-ORIGINAL-URL:http://gococare.com.au
X-WR-CALDESC:Events for GoCo
BEGIN:VTIMEZONE
TZID:Australia/Sydney
BEGIN:STANDARD
TZOFFSETFROM:+1100
TZOFFSETTO:+1000
TZNAME:AEST
DTSTART:20170401T160000
END:STANDARD
BEGIN:DAYLIGHT
TZOFFSETFROM:+1000
TZOFFSETTO:+1100
TZNAME:AEDT
DTSTART:20170930T160000
END:DAYLIGHT
END:VTIMEZONE
BEGIN:VEVENT
DTSTART;TZID="Australia/Sydney":20171020T110000
DTEND;TZID="Australia/Sydney":20171020T130000
DTSTAMP:20200229T193655
CREATED:20171011T001304Z
LAST-MODIFIED:20171011T024810Z
UID:3745-1508497200-1508504400@gococare.com.au
SUMMARY:Peace and Pamper Day for carers
DESCRIPTION:GoCo Community Care is taking time to care for carers in Gunnedah during National Carers Week (15-21 October). \nCarers are invited to GoCo’s ‘Peace and Pamper Day’ – for relaxing massages\, manicures and a light morning tea. GoCo staff will be on hand to provide information about support and social activities for carers and the people they care for. \n“National Carers Week provides GoCo with the opportunity to show appreciation to Gunnedah’s carers. We would like to invite anyone caring for a loved one with dementia\, a disability or chronic illness to relax for a few hours\,” GoCo Community Transport Co-ordinator Tammy Lumby said. \n“Carers make enormous contributions to communities and save the country approximately $60.3 billion per year. \n“In the Gunnedah Shire alone there were 1108 carers providing unpaid assistance to a person with a disability\, long-term illness or old age in 2016 (PopID Data). We want to take time out to pamper the people who are often accustomed to looking after others.” \nGoCo’s Peace and Pamper Day will be held on Friday\, 20 October at GoCo Community Care\, 80 Marquis Street\, Gunnedah from 11am to 1pm. \n
URL:http://gococare.com.au/event/goco-celebrates-carers-national-carers-week/
LOCATION:GoCo Gunnedah Community Centre\, 80 Marquis Street\, Gunnedah\, NSW\, 2380\, Australia
END:VEVENT
END:VCALENDAR