BEGIN:VCALENDAR
VERSION:2.0
PRODID:-//GoCo - ECPv4.9.8//NONSGML v1.0//EN
CALSCALE:GREGORIAN
METHOD:PUBLISH
X-WR-CALNAME:GoCo
X-ORIGINAL-URL:http://gococare.com.au
X-WR-CALDESC:Events for GoCo
BEGIN:VTIMEZONE
TZID:Australia/Sydney
BEGIN:STANDARD
TZOFFSETFROM:+1100
TZOFFSETTO:+1000
TZNAME:AEST
DTSTART:20210403T160000
END:STANDARD
BEGIN:DAYLIGHT
TZOFFSETFROM:+1000
TZOFFSETTO:+1100
TZNAME:AEDT
DTSTART:20211002T160000
END:DAYLIGHT
END:VTIMEZONE
BEGIN:VEVENT
DTSTART;TZID="Australia/Sydney":20210419T093000
DTEND;TZID="Australia/Sydney":20210419T140000
DTSTAMP:20200229T195004
CREATED:20181018T043706Z
LAST-MODIFIED:20181018T043706Z
UID:5023-1618824600-1618840800@gococare.com.au
SUMMARY:Gunnedah Monday Club
DESCRIPTION:A social support group which offer a range of activities\, depending on what the group members interests and abilities. A cooked lunch and morning tea is provided to as well as transport to and from the centre if required. \nThis group supports participants with mild to moderate dementia. \n
URL:http://gococare.com.au/event/gunnedah-monday-club/2021-04-19/
LOCATION:GoCo Gunnedah Community Centre\, 80 Marquis Street\, Gunnedah\, NSW\, 2380\, Australia
END:VEVENT
END:VCALENDAR