BEGIN:VCALENDAR
VERSION:2.0
PRODID:-//GoCo - ECPv4.9.8//NONSGML v1.0//EN
CALSCALE:GREGORIAN
METHOD:PUBLISH
X-WR-CALNAME:GoCo
X-ORIGINAL-URL:http://gococare.com.au
X-WR-CALDESC:Events for GoCo
BEGIN:VTIMEZONE
TZID:Australia/Sydney
BEGIN:STANDARD
TZOFFSETFROM:+1100
TZOFFSETTO:+1000
TZNAME:AEST
DTSTART:20170401T160000
END:STANDARD
BEGIN:DAYLIGHT
TZOFFSETFROM:+1000
TZOFFSETTO:+1100
TZNAME:AEDT
DTSTART:20170930T160000
END:DAYLIGHT
END:VTIMEZONE
BEGIN:VEVENT
DTSTART;TZID="Australia/Sydney":20170627T093000
DTEND;TZID="Australia/Sydney":20170627T123000
DTSTAMP:20200229T195704
CREATED:20170526T213944Z
LAST-MODIFIED:20170526T213944Z
UID:3226-1498555800-1498566600@gococare.com.au
SUMMARY:Practical Parenting Workshop - Quirindi
DESCRIPTION:Practical Parenting Workshop\n* This course is for first time parents and/or parents with children aged 0-9 years.\n* What questions do we ask of ourselves as parents and what questions do we ask our children\, to assist them in the process of their own personal growth and to guide them through the stages of age development.\n* What discipline is for and how to use it effectively without guilt and shame so we can promote resilience and assertiveness in children \nIf you would like further information\, please contact Leanne on 67430999\, Kirren on 67924479\, or Renee on 0437693771\nEvent Date  & Time\nWee Waa – 6th June 2017 – 9.30-12.30 at the Wee Waa Lands council (63 Rose Street)\nNarrabri – 7th June 2017 – 9.30-12.30 at the Winanga-Li office (33 Hinds street)\nGunnedah – 20th June 2017 – 9.30-12.30 at Winanga-Li office (12 Hunter Street)\nQuirindi – 27th June 2017 – 9.30-12.30 at the Quirindi Public School Hall \n
URL:http://gococare.com.au/event/practical-parenting-workshop-quirindi/
LOCATION:Winanga-Li Quirindi Office\, Quirindi Public School\, Quirindi\, Australia
ORGANIZER;CN="Winanga-Li%20Child%20and%20Family%20Centre":MAILTO:reception@winanga-li.org.au
END:VEVENT
END:VCALENDAR