BEGIN:VCALENDAR
VERSION:2.0
PRODID:-//GoCo - ECPv4.9.8//NONSGML v1.0//EN
CALSCALE:GREGORIAN
METHOD:PUBLISH
X-WR-CALNAME:GoCo
X-ORIGINAL-URL:http://gococare.com.au
X-WR-CALDESC:Events for GoCo
BEGIN:VTIMEZONE
TZID:Australia/Sydney
BEGIN:STANDARD
TZOFFSETFROM:+1100
TZOFFSETTO:+1000
TZNAME:AEST
DTSTART:20170401T160000
END:STANDARD
BEGIN:DAYLIGHT
TZOFFSETFROM:+1000
TZOFFSETTO:+1100
TZNAME:AEDT
DTSTART:20170930T160000
END:DAYLIGHT
END:VTIMEZONE
BEGIN:VEVENT
DTSTART;TZID="Australia/Sydney":20170307T150000
DTEND;TZID="Australia/Sydney":20170307T160000
DTSTAMP:20200229T193447
CREATED:20170215T045330Z
LAST-MODIFIED:20170215T045330Z
UID:2827-1488898800-1488902400@gococare.com.au
SUMMARY:Seniors Paper Craft
DESCRIPTION:
URL:http://gococare.com.au/event/seniors-paper-craft/
LOCATION:Gunnedah Shire Library\, Conadilly Street \, Gunnedah\, NSW\, 2380\, Australia
ORGANIZER;CN="Gunnedah%20Shire%20Council":MAILTO:council@infogunnedah.com.au
END:VEVENT
END:VCALENDAR