BEGIN:VCALENDAR
VERSION:2.0
PRODID:-//GoCo - ECPv4.9.8//NONSGML v1.0//EN
CALSCALE:GREGORIAN
METHOD:PUBLISH
X-WR-CALNAME:GoCo
X-ORIGINAL-URL:http://gococare.com.au
X-WR-CALDESC:Events for GoCo
BEGIN:VTIMEZONE
TZID:Australia/Sydney
BEGIN:STANDARD
TZOFFSETFROM:+1100
TZOFFSETTO:+1000
TZNAME:AEST
DTSTART:20170401T160000
END:STANDARD
BEGIN:DAYLIGHT
TZOFFSETFROM:+1000
TZOFFSETTO:+1100
TZNAME:AEDT
DTSTART:20170930T160000
END:DAYLIGHT
END:VTIMEZONE
BEGIN:VEVENT
DTSTART;TZID="Australia/Sydney":20170309T140000
DTEND;TZID="Australia/Sydney":20170309T160000
DTSTAMP:20200229T195610
CREATED:20170215T045647Z
LAST-MODIFIED:20170215T045647Z
UID:2833-1489068000-1489075200@gococare.com.au
SUMMARY:Zen Doodling
DESCRIPTION:
URL:http://gococare.com.au/event/zen-doodling/
LOCATION:Gunnedah Shire Library\, Conadilly Street \, Gunnedah\, NSW\, 2380\, Australia
ORGANIZER;CN="Gunnedah%20Shire%20Council":MAILTO:council@infogunnedah.com.au
END:VEVENT
END:VCALENDAR