BEGIN:VCALENDAR
VERSION:2.0
PRODID:-//GoCo - ECPv5.1.5//NONSGML v1.0//EN
CALSCALE:GREGORIAN
METHOD:PUBLISH
X-WR-CALNAME:GoCo
X-ORIGINAL-URL:https://gococare.com.au
X-WR-CALDESC:Events for GoCo
BEGIN:VTIMEZONE
TZID:Australia/Sydney
BEGIN:STANDARD
TZOFFSETFROM:+1100
TZOFFSETTO:+1000
TZNAME:AEST
DTSTART:20210403T160000
END:STANDARD
BEGIN:DAYLIGHT
TZOFFSETFROM:+1000
TZOFFSETTO:+1100
TZNAME:AEDT
DTSTART:20211002T160000
END:DAYLIGHT
END:VTIMEZONE
BEGIN:VEVENT
DTSTART;TZID=Australia/Sydney:20210222T103000
DTEND;TZID=Australia/Sydney:20210222T113000
DTSTAMP:20210301T105001
CREATED:20200810T055605Z
LAST-MODIFIED:20200810T055605Z
UID:7545-1613989800-1613993400@gococare.com.au
SUMMARY:Gunnedah Brain Training
DESCRIPTION:Brain Training is a social group for older people run by Gunnedah Shire Council in the Gunnedah Shire Library. The group offers a creative and supportive setting to boost brain function. This is done by targeting memory\, vocabulary and decision making through games and activities including puzzles\, craft\, games\, mazes and code breaking. \nParticipants love their weekly catch up with friends and a chance to get creative and test their brains. \nTransport to and from the Gunnedah Library is available through GoCo. \nBrain training is available to people who are eligible for social groups through My Aged Care. \n
URL:https://gococare.com.au/event/gunnedah-brain-training/2021-02-22/
LOCATION:Gunnedah Shire Library\, Conadilly Street \, Gunnedah\, NSW\, 2380\, Australia
GEO:-30.9794203;150.2564901
X-APPLE-STRUCTURED-LOCATION;VALUE=URI;X-ADDRESS=Gunnedah Shire Library Conadilly Street  Gunnedah NSW 2380 Australia;X-APPLE-RADIUS=500;X-TITLE=Conadilly Street:geo:150.2564901,-30.9794203
END:VEVENT
END:VCALENDAR