BEGIN:VCALENDAR
VERSION:2.0
PRODID:-//GoCo - ECPv5.1.5//NONSGML v1.0//EN
CALSCALE:GREGORIAN
METHOD:PUBLISH
X-WR-CALNAME:GoCo
X-ORIGINAL-URL:https://gococare.com.au
X-WR-CALDESC:Events for GoCo
BEGIN:VTIMEZONE
TZID:Australia/Sydney
BEGIN:STANDARD
TZOFFSETFROM:+1100
TZOFFSETTO:+1000
TZNAME:AEST
DTSTART:20210403T160000
END:STANDARD
BEGIN:DAYLIGHT
TZOFFSETFROM:+1000
TZOFFSETTO:+1100
TZNAME:AEDT
DTSTART:20211002T160000
END:DAYLIGHT
END:VTIMEZONE
BEGIN:VEVENT
DTSTART;TZID=Australia/Sydney:20210222T110000
DTEND;TZID=Australia/Sydney:20210222T140000
DTSTAMP:20210301T104636
CREATED:20181018T043706Z
LAST-MODIFIED:20200811T003238Z
UID:7979-1613991600-1614002400@gococare.com.au
SUMMARY:Gunnedah Day Centre
DESCRIPTION:A social support group which offer a range of activities\, depending on what the group members interests and abilities. A cooked lunch  is provided to as well as transport to and from the centre if required. \nThis group supports participants with mild to moderate dementia. \n
URL:https://gococare.com.au/event/gunnedah-day-centre/2021-02-22/
LOCATION:GoCo Gunnedah Community Centre\, 80 Marquis Street\, Gunnedah\, NSW\, 2380\, Australia
GEO:-30.9788488;150.2521088
X-APPLE-STRUCTURED-LOCATION;VALUE=URI;X-ADDRESS=GoCo Gunnedah Community Centre 80 Marquis Street Gunnedah NSW 2380 Australia;X-APPLE-RADIUS=500;X-TITLE=80 Marquis Street:geo:150.2521088,-30.9788488
END:VEVENT
END:VCALENDAR